BEGIN:VCALENDAR
VERSION:2.0
PRODID:-//Squarespace Inc/Squarespace 6//v6//EN
BEGIN:VEVENT
UID:5ed6ed6b4ab33c4a5a49517c@squarespace.com
DTSTAMP:20200701T235435Z
DTSTART:20200605T220000Z
DTEND:20200616T040000Z
SUMMARY:Pop-Up Exhibition
END:VEVENT
END:VCALENDAR
