BEGIN:VCALENDAR
VERSION:2.0
PRODID:-//Squarespace Inc/Squarespace 6//v6//EN
BEGIN:VEVENT
UID:5a29c8d2e4966b9ae4185e24@squarespace.com
DTSTAMP:20200708T234607Z
DTSTART:20161119T230000Z
DTEND:20170131T020000Z
SUMMARY:sonic art residency 2016 - 2017
END:VEVENT
END:VCALENDAR
