BEGIN:VCALENDAR
VERSION:2.0
PRODID:-//Squarespace Inc/Squarespace 6//v6//EN
BEGIN:VEVENT
UID:5a29b30008522909807831fd@squarespace.com
DTSTAMP:20180717T014933Z
DTSTART:20161130T230000Z
DTEND:20170131T020000Z
SUMMARY:growing income streams 2016 - 2017
END:VEVENT
END:VCALENDAR
