BEGIN:VCALENDAR
VERSION:2.0
PRODID:-//Squarespace Inc/Squarespace 6//v6//EN
BEGIN:VEVENT
UID:5a29d90cc83025fdaf18898a@squarespace.com
DTSTAMP:20180717T014856Z
DTSTART:20161203T230000Z
DTEND:20170331T020000Z
SUMMARY:dance residency 2016 - 2017
END:VEVENT
END:VCALENDAR
