BEGIN:VCALENDAR
VERSION:2.0
PRODID:-//Squarespace Inc/Squarespace 6//v6//EN
BEGIN:VEVENT
UID:5a29b32171c10b7a0e8a8ce7@squarespace.com
DTSTAMP:20180717T015036Z
DTSTART:20160131T230000Z
DTEND:20160201T030000Z
SUMMARY:fast art 2016
END:VEVENT
END:VCALENDAR
