BEGIN:VCALENDAR
VERSION:2.0
PRODID:-//Squarespace Inc/Squarespace 6//v6//EN
BEGIN:VEVENT
UID:5a2852f824a694e63ae40781@squarespace.com
DTSTAMP:20180717T014752Z
DTSTART:20170421T220000Z
DTEND:20170430T020000Z
SUMMARY:dance week 2017
END:VEVENT
END:VCALENDAR
