BEGIN:VCALENDAR
VERSION:2.0
PRODID:-//Squarespace Inc/Squarespace 6//v6//EN
BEGIN:VEVENT
UID:5db1092daa45d66460e2e809@squarespace.com
DTSTAMP:20191024T022357Z
DTSTART:20170601T220000Z
DTEND:20170624T040000Z
SUMMARY:Pūkana whakarunga! Gaze wildly to the realm above! Pūkana whakararo
 !  Gaze wildly to the realm below!
END:VEVENT
END:VCALENDAR
