BEGIN:VCALENDAR
VERSION:2.0
PRODID:-//Squarespace Inc/Squarespace 6//v6//EN
BEGIN:VEVENT
UID:59d542694c0dbf6e2a2837d1@squarespace.com
DTSTAMP:20180717T014214Z
DTSTART:20171007T010000Z
DTEND:20171007T023000Z
SUMMARY:Artists Talk – Intimate Distance
END:VEVENT
END:VCALENDAR
