BEGIN:VCALENDAR
VERSION:2.0
PRODID:-//Squarespace Inc/Squarespace 6//v6//EN
BEGIN:VEVENT
UID:5a29bb8e41920214496be1b9@squarespace.com
DTSTAMP:20200708T233434Z
DTSTART:20171119T230000Z
DTEND:20180110T020000Z
SUMMARY:sound art residency2017 - 2018
END:VEVENT
END:VCALENDAR
