BEGIN:VCALENDAR
VERSION:2.0
PRODID:-//Squarespace Inc/Squarespace 6//v6//EN
BEGIN:VEVENT
UID:5a2a00ca9140b7b761853752@squarespace.com
DTSTAMP:20180717T013725Z
DTSTART:20171211T233000Z
DTEND:20171212T013000Z
SUMMARY:Urban Dreams Lunch with Clare Mabey & Andrew Laking - Pirate & Quee
 n
END:VEVENT
END:VCALENDAR
