BEGIN:VCALENDAR
VERSION:2.0
PRODID:-//Squarespace Inc/Squarespace 6//v6//EN
BEGIN:VEVENT
UID:5a220f85e2c483bcf39d7cbf@squarespace.com
DTSTAMP:20180709T035917Z
DTSTART:20171212T043000Z
DTEND:20171221T003000Z
SUMMARY:the toi two hundy
END:VEVENT
END:VCALENDAR
