BEGIN:VCALENDAR
VERSION:2.0
PRODID:-//Squarespace Inc/Squarespace 6//v6//EN
BEGIN:VEVENT
UID:5a29e6e6085229304f0d2316@squarespace.com
DTSTAMP:20181211T020018Z
DTSTART:20171203T230000Z
DTEND:20180324T020000Z
SUMMARY:dance residency 2017 - 2018
END:VEVENT
END:VCALENDAR
