BEGIN:VCALENDAR
VERSION:2.0
PRODID:-//Squarespace Inc/Squarespace 6//v6//EN
BEGIN:VEVENT
UID:58d05a54414fb5417874004b@squarespace.com
DTSTAMP:20170330T012229Z
DTSTART:20170209T210000Z
DTEND:20170304T070000Z
SUMMARY:Take that which has passed
END:VEVENT
END:VCALENDAR
