BEGIN:VCALENDAR
VERSION:2.0
PRODID:-//Squarespace Inc/Squarespace 6//v6//EN
BEGIN:VEVENT
UID:590a8e801b631b14ff7e2f51@squarespace.com
DTSTAMP:20170504T022308Z
DTSTART:20170218T010000Z
DTEND:20170218T020000Z
SUMMARY:Take that which has passed: Talk and Publication Launch
END:VEVENT
END:VCALENDAR
