BEGIN:VCALENDAR
VERSION:2.0
PRODID:-//Squarespace Inc/Squarespace 6//v6//EN
BEGIN:VEVENT
UID:5b4fcb821ae6cfa99e541633@squarespace.com
DTSTAMP:20181119T020900Z
DTSTART:20180920T220000Z
DTEND:20181013T030000Z
SUMMARY:The Future is Death
END:VEVENT
END:VCALENDAR
