BEGIN:VCALENDAR
VERSION:2.0
PRODID:-//Squarespace Inc/Squarespace 6//v6//EN
BEGIN:VEVENT
UID:58d0569bbf629abc5cbae0d7@squarespace.com
DTSTAMP:20200708T233854Z
DTSTART:20170112T210000Z
DTEND:20170204T070000Z
SUMMARY:octophonic / ambisonic
END:VEVENT
END:VCALENDAR
