BEGIN:VCALENDAR
VERSION:2.0
PRODID:-//Squarespace Inc/Squarespace 6//v6//EN
BEGIN:VEVENT
UID:58b8db3159cc6856f3c1ef73@squarespace.com
DTSTAMP:20180717T014826Z
DTSTART:20170324T230000Z
DTEND:20170326T000000Z
SUMMARY:Toi Pōneke Music Stage at CubaDupa 
END:VEVENT
END:VCALENDAR
