BEGIN:VCALENDAR
VERSION:2.0
PRODID:-//Squarespace Inc/Squarespace 6//v6//EN
BEGIN:VEVENT
UID:58ec439eebbd1a18bdcf202f@squarespace.com
DTSTAMP:20180717T014724Z
DTSTART:20170430T070000Z
DTEND:20170430T100000Z
SUMMARY:works for loudspeakers No.11 
END:VEVENT
END:VCALENDAR
