BEGIN:VCALENDAR
VERSION:2.0
PRODID:-//Squarespace Inc/Squarespace 6//v6//EN
BEGIN:VEVENT
UID:58d04952ebbd1aecb85fe1c3@squarespace.com
DTSTAMP:20180709T035502Z
DTSTART:20170406T220000Z
DTEND:20170429T080000Z
SUMMARY:between moods  
END:VEVENT
END:VCALENDAR
