BEGIN:VCALENDAR
VERSION:2.0
PRODID:-//Squarespace Inc/Squarespace 6//v6//EN
BEGIN:VEVENT
UID:58f5416ff7e0abbf94a18be8@squarespace.com
DTSTAMP:20180709T035517Z
DTSTART:20170504T220000Z
DTEND:20170527T040000Z
SUMMARY:Dirty Edges / Clean Lines
END:VEVENT
END:VCALENDAR
