BEGIN:VCALENDAR
VERSION:2.0
PRODID:-//Squarespace Inc/Squarespace 6//v6//EN
BEGIN:VEVENT
UID:593492d9e58c627dbfb12c0a@squarespace.com
DTSTAMP:20180709T035535Z
DTSTART:20170629T220000Z
DTEND:20170722T040000Z
SUMMARY:I do not want to be a fool
END:VEVENT
END:VCALENDAR
