BEGIN:VCALENDAR
VERSION:2.0
PRODID:-//Squarespace Inc/Squarespace 6//v6//EN
BEGIN:VEVENT
UID:5a5294a871c10b6703d2251a@squarespace.com
DTSTAMP:20180717T014508Z
DTSTART:20170701T000000Z
DTEND:20171231T020000Z
SUMMARY:community arts residency - 2017
END:VEVENT
END:VCALENDAR
