BEGIN:VCALENDAR
VERSION:2.0
PRODID:-//Squarespace Inc/Squarespace 6//v6//EN
BEGIN:VEVENT
UID:59605931d2b85754d952d53d@squarespace.com
DTSTAMP:20170906T225604Z
DTSTART:20170727T220000Z
DTEND:20170819T040000Z
SUMMARY:Horizons
END:VEVENT
END:VCALENDAR
