BEGIN:VCALENDAR
VERSION:2.0
PRODID:-//Squarespace Inc/Squarespace 6//v6//EN
BEGIN:VEVENT
UID:598294f8914e6bd2e5b9c336@squarespace.com
DTSTAMP:20180709T035549Z
DTSTART:20170824T220000Z
DTEND:20170916T040000Z
SUMMARY:Microcosmic
END:VEVENT
END:VCALENDAR
