BEGIN:VCALENDAR
VERSION:2.0
PRODID:-//Squarespace Inc/Squarespace 6//v6//EN
BEGIN:VEVENT
UID:59a73f182994cafaf06833cb@squarespace.com
DTSTAMP:20180717T014351Z
DTSTART:20170912T000000Z
DTEND:20170912T010000Z
SUMMARY:Growing Income Streams Programme
END:VEVENT
END:VCALENDAR
