BEGIN:VCALENDAR
VERSION:2.0
PRODID:-//Squarespace Inc/Squarespace 6//v6//EN
BEGIN:VEVENT
UID:59b072af7131a5f35c05daea@squarespace.com
DTSTAMP:20191024T023418Z
DTSTART:20170922T220000Z
DTEND:20171014T030000Z
SUMMARY:Intimate Distance
END:VEVENT
END:VCALENDAR
