BEGIN:VCALENDAR
VERSION:2.0
PRODID:-//Squarespace Inc/Squarespace 6//v6//EN
BEGIN:VEVENT
UID:5a5fb74124a694f8d83c878a@squarespace.com
DTSTAMP:20180709T040045Z
DTSTART:20180209T210000Z
DTEND:20180303T030000Z
SUMMARY:Something in mind
END:VEVENT
END:VCALENDAR
