BEGIN:VCALENDAR
VERSION:2.0
PRODID:-//Squarespace Inc/Squarespace 6//v6//EN
BEGIN:VEVENT
UID:5c9046aa9140b7ad402447d0@squarespace.com
DTSTAMP:20190626T003639Z
DTSTART:20190409T053000Z
DTEND:20190409T073000Z
SUMMARY:Ghosts\, floating  - Poetry Reading 
END:VEVENT
END:VCALENDAR
