BEGIN:VCALENDAR
VERSION:2.0
PRODID:-//Squarespace Inc/Squarespace 6//v6//EN
BEGIN:VEVENT
UID:5aceeede2b6a28b2995fd987@squarespace.com
DTSTAMP:20180709T040137Z
DTSTART:20180503T220000Z
DTEND:20180526T040000Z
SUMMARY:Anti-body
END:VEVENT
END:VCALENDAR
