BEGIN:VCALENDAR
VERSION:2.0
PRODID:-//Squarespace Inc/Squarespace 6//v6//EN
BEGIN:VEVENT
UID:5afb96f6562fa76042e508d0@squarespace.com
DTSTAMP:20180709T033735Z
DTSTART:20180531T220000Z
DTEND:20180623T040000Z
SUMMARY:Gloaming
END:VEVENT
END:VCALENDAR
