BEGIN:VCALENDAR
VERSION:2.0
PRODID:-//Squarespace Inc/Squarespace 6//v6//EN
BEGIN:VEVENT
UID:5b218f2303ce6425d7fb069d@squarespace.com
DTSTAMP:20180719T024354Z
DTSTART:20180628T220000Z
DTEND:20180721T040000Z
SUMMARY:Te Reo Pākehā 
END:VEVENT
END:VCALENDAR
