BEGIN:VCALENDAR
VERSION:2.0
PRODID:-//Squarespace Inc/Squarespace 6//v6//EN
BEGIN:VEVENT
UID:5b5a8d4caa4a995ec918e5c9@squarespace.com
DTSTAMP:20200709T003527Z
DTSTART:20181019T210000Z
DTEND:20181110T030000Z
SUMMARY:Sonorous Shadow 
END:VEVENT
END:VCALENDAR
