BEGIN:VCALENDAR
VERSION:2.0
PRODID:-//Squarespace Inc/Squarespace 6//v6//EN
BEGIN:VEVENT
UID:5996284d59cc6889bc01daa8@squarespace.com
DTSTAMP:20180717T014425Z
DTSTART:20170905T053000Z
DTEND:20170905T073000Z
SUMMARY:Floor Talk: Astrid Visser & Alexia George
END:VEVENT
END:VCALENDAR
