BEGIN:VCALENDAR
VERSION:2.0
PRODID:-//Squarespace Inc/Squarespace 6//v6//EN
BEGIN:VEVENT
UID:5a3873e7ec212d3032651e00@squarespace.com
DTSTAMP:20181211T223321Z
DTSTART:20180127T230000Z
DTEND:20180128T020000Z
SUMMARY:sound art residency - artist talk 
END:VEVENT
END:VCALENDAR
