BEGIN:VCALENDAR
VERSION:2.0
PRODID:-//Squarespace Inc/Squarespace 6//v6//EN
BEGIN:VEVENT
UID:5a2214f871c10b3508a44826@squarespace.com
DTSTAMP:20200708T233255Z
DTSTART:20180112T210000Z
DTEND:20180203T030000Z
SUMMARY:attunement
END:VEVENT
END:VCALENDAR
