BEGIN:VCALENDAR
VERSION:2.0
PRODID:-//Squarespace Inc/Squarespace 6//v6//EN
BEGIN:VEVENT
UID:5a29f6c3c83025e2d006e1a8@squarespace.com
DTSTAMP:20180717T015623Z
DTSTART:20180121T230000Z
DTEND:20180129T020000Z
SUMMARY:sound art residency - public workshops
END:VEVENT
END:VCALENDAR
