BEGIN:VCALENDAR
VERSION:2.0
PRODID:-//Squarespace Inc/Squarespace 6//v6//EN
BEGIN:VEVENT
UID:5b4410ad2b6a28965ad20980@squarespace.com
DTSTAMP:20180911T005254Z
DTSTART:20181001T050000Z
DTEND:20181001T060000Z
SUMMARY:artists talk - Myriam Bleau 
END:VEVENT
END:VCALENDAR
