BEGIN:VCALENDAR
VERSION:2.0
PRODID:-//Squarespace Inc/Squarespace 6//v6//EN
BEGIN:VEVENT
UID:5cd9f043d2e6b10001be60eb@squarespace.com
DTSTAMP:20190529T035743Z
DTSTART:20190513T210000Z
DTEND:20190623T210000Z
SUMMARY:Announcing the Write Room Wellington Screenwriter Resident 2019
END:VEVENT
END:VCALENDAR
