BEGIN:VCALENDAR
VERSION:2.0
PRODID:-//Squarespace Inc/Squarespace 6//v6//EN
BEGIN:VEVENT
UID:5c0f1a32b8a0457176c19a00@squarespace.com
DTSTAMP:20190513T223131Z
DTSTART:20190203T230000Z
DTEND:20190309T010000Z
SUMMARY:dance residency 2018 - 2019
END:VEVENT
END:VCALENDAR
