BEGIN:VCALENDAR
VERSION:2.0
PRODID:-//Squarespace Inc/Squarespace 6//v6//EN
BEGIN:VEVENT
UID:597e5e8cebbd1ad6944a0d0c@squarespace.com
DTSTAMP:20181220T224615Z
DTSTART:20181211T043000Z
DTEND:20181221T040000Z
SUMMARY:The Toi Two Hundy 
END:VEVENT
END:VCALENDAR
