BEGIN:VCALENDAR
VERSION:2.0
PRODID:-//Squarespace Inc/Squarespace 6//v6//EN
BEGIN:VEVENT
UID:5bb55863104c7b807ae611e0@squarespace.com
DTSTAMP:20181008T222925Z
DTSTART:20181011T000000Z
DTEND:20181011T010000Z
SUMMARY:Splendor: A New Model for a Collective Workspace and Venue
END:VEVENT
END:VCALENDAR
