BEGIN:VCALENDAR
VERSION:2.0
PRODID:-//Squarespace Inc/Squarespace 6//v6//EN
BEGIN:VEVENT
UID:5b91a0af758d46fdc367095f@squarespace.com
DTSTAMP:20181210T030810Z
DTSTART:20180906T220000Z
DTEND:20180928T040000Z
SUMMARY:Toi Pōneke New Zealand School of Music Sound Artist in Residence 20
 18-19
END:VEVENT
END:VCALENDAR
