BEGIN:VCALENDAR
VERSION:2.0
PRODID:-//Squarespace Inc/Squarespace 6//v6//EN
BEGIN:VEVENT
UID:5ac2e6cd562fa73cd88d154e@squarespace.com
DTSTAMP:20190226T024233Z
DTSTART:20180401T000000Z
DTEND:20180507T030000Z
SUMMARY:Toi Pōneke Arts Centre Visual Arts Residency 2018 - call for submis
 sions
END:VEVENT
END:VCALENDAR
