BEGIN:VCALENDAR
VERSION:2.0
PRODID:-//Squarespace Inc/Squarespace 6//v6//EN
BEGIN:VEVENT
UID:5aa98295e2c483dd8d34ded7@squarespace.com
DTSTAMP:20180717T013519Z
DTSTART:20180324T000000Z
DTEND:20180324T105900Z
SUMMARY:toi pōneke stage – cubadupa
END:VEVENT
END:VCALENDAR
