BEGIN:VCALENDAR
VERSION:2.0
PRODID:-//Squarespace Inc/Squarespace 6//v6//EN
BEGIN:VEVENT
UID:5b0f22d0758d460a15426ce9@squarespace.com
DTSTAMP:20180717T012754Z
DTSTART:20180531T000000Z
DTEND:20180611T040000Z
SUMMARY:Barbarian Uprising Mentorship Programme (BUMP) 2018
END:VEVENT
END:VCALENDAR
