BEGIN:VCALENDAR
VERSION:2.0
PRODID:-//Squarespace Inc/Squarespace 6//v6//EN
BEGIN:VEVENT
UID:5b209a18f950b75281fcd530@squarespace.com
DTSTAMP:20180710T014933Z
DTSTART:20180613T000000Z
DTEND:20180930T020000Z
SUMMARY:Toi Pōneke Arts Centre Visual Arts Residency 2018
END:VEVENT
END:VCALENDAR
