BEGIN:VCALENDAR
VERSION:2.0
PRODID:-//Squarespace Inc/Squarespace 6//v6//EN
BEGIN:VEVENT
UID:5b2c6c2103ce640f4e23b861@squarespace.com
DTSTAMP:20180906T214831Z
DTSTART:20180622T000000Z
DTEND:20180818T030000Z
SUMMARY:New Zealand Playwright Exchange 2018
END:VEVENT
END:VCALENDAR
