BEGIN:VCALENDAR
VERSION:2.0
PRODID:-//Squarespace Inc/Squarespace 6//v6//EN
BEGIN:VEVENT
UID:5b56715888251b7126076fa7@squarespace.com
DTSTAMP:20180911T004703Z
DTSTART:20180724T010000Z
DTEND:20180923T045900Z
SUMMARY:Te Hau Tūtū – Independent Māori Theatre Producers’ Room
END:VEVENT
END:VCALENDAR
