BEGIN:VCALENDAR
VERSION:2.0
PRODID:-//Squarespace Inc/Squarespace 6//v6//EN
BEGIN:VEVENT
UID:5b5a8d5a6d2a73a8bb166d24@squarespace.com
DTSTAMP:20180925T213542Z
DTSTART:20180823T220000Z
DTEND:20180915T040000Z
SUMMARY:Entangled
END:VEVENT
END:VCALENDAR
