BEGIN:VCALENDAR
VERSION:2.0
PRODID:-//Squarespace Inc/Squarespace 6//v6//EN
BEGIN:VEVENT
UID:5b931a1cb8a045c01cc5d861@squarespace.com
DTSTAMP:20181112T233913Z
DTSTART:20181115T210000Z
DTEND:20181208T030000Z
SUMMARY:The Quarry
END:VEVENT
END:VCALENDAR
